BEGIN:VCALENDAR
PRODID:-//eluceo/ical//2.0/EN
VERSION:2.0
CALSCALE:GREGORIAN
BEGIN:VEVENT
UID:b4fda7d69343f2968987e8b2b3f3777a
DTSTAMP:20260419T130546Z
SUMMARY:Aukcja na&nbsp\;rzecz renowacji plafonu _Plejady_
DESCRIPTION:<p>Dyrekcja PAN Ogrodu Botanicznego – CZRB w Powsinie oraz Fa
 ngor Foundation zapraszają do udziału w aukcji obrazów w celu zgromadze
 nia funduszy na rzecz ratowania zabytkowego plafonu Wojciecha Fangora. Wys
 tawę prac oglądać można od 27 września do 11 października w galerii 
 Fangorówka.</p>\n
DTSTART;VALUE=DATE:20200929
DTEND;VALUE=DATE:20201012
END:VEVENT
END:VCALENDAR
