BEGIN:VCALENDAR
PRODID:-//eluceo/ical//2.0/EN
VERSION:2.0
CALSCALE:GREGORIAN
BEGIN:VEVENT
UID:ce3e80f4c1b7a491aecbde8886d8db92
DTSTAMP:20260419T145151Z
SUMMARY:Auction for&nbsp\;renovation of&nbsp\;the _Pleiades_ plafond
DESCRIPTION:<p>The Polish Academy of Sciences Botanical Garden in Powsin an
 d the Fangor Foundation would like to invite you to take part in an auctio
 n to save a historic plafond by Wojciech Fangor. The exhibition of works c
 an be viewed from 27 September to 11 October at the Fangorówka gallery.</
 p>\n
DTSTART;VALUE=DATE:20200929
DTEND;VALUE=DATE:20201012
END:VEVENT
END:VCALENDAR
